BEGIN:VCALENDAR
VERSION:2.0
PRODID:-// - ECPv6.15.20//NONSGML v1.0//EN
CALSCALE:GREGORIAN
METHOD:PUBLISH
X-ORIGINAL-URL:https://oistrosphilosophy.com
X-WR-CALDESC:Events for 
REFRESH-INTERVAL;VALUE=DURATION:PT1H
X-Robots-Tag:noindex
X-PUBLISHED-TTL:PT1H
BEGIN:VTIMEZONE
TZID:Europe/Moscow
BEGIN:STANDARD
TZOFFSETFROM:+0300
TZOFFSETTO:+0300
TZNAME:MSK
DTSTART:20240101T000000
END:STANDARD
END:VTIMEZONE
BEGIN:VEVENT
DTSTART;TZID=Europe/Moscow:20251001T000000
DTEND;TZID=Europe/Moscow:20251231T235959
DTSTAMP:20260420T045330
CREATED:20250703T135827Z
LAST-MODIFIED:20250704T100547Z
UID:484-1759276800-1767225599@oistrosphilosophy.com
SUMMARY:Ο Έρωτας ως Δύναμη Μεταμόρφωσης – Πώς τον καλώ στη ζωή μου;
DESCRIPTION:Τρίμηνο Σεμινάριο με την Κατερίνα Σουλιώτη \nΈνα βιωματικό σεμινάριο αυτογνωσίας που θα σε βοηθήσει: \n\nνα κατανοήσεις τι είναι ο Έρωτας πέρα από το πάθος και τα συναισθήματα\,\nνα καλλιεργήσεις τη σύνδεση με τον εαυτό σου\,\nκαι να ξαναβρείς την έμπνευση\, τη δημιουργικότητα και την αγάπη στη ζωή σου.\n\nΈνα σεμινάριο για εκείνους που δεν συμβιβάζονται με επιφανειακές απαντήσεις. Για εκείνους που νιώθουν μέσα τους ότι ο Έρωτας υπάρχει — και είναι έτοιμοι να τον συναντήσουν εκεί που γεννήθηκε: στην Καρδιά τους. \nΚλείσε τη θέση σου! \nΤι θα πετύχουμε: \n• Θα ανακαλύψεις τι σε εμποδίζει να νιώσεις τον Έρωτα. \n• Θα ξυπνήσεις τη δύναμη της καρδιάς σου. \n• Θα εμπνευστείς για να δημιουργήσεις σχέσεις\, έργα και ζωή με αλήθεια. \nΔομή Σεμιναρίου \nΟκτώβριος: 4 Ατομικές Συναντήσεις (1 ώρα/εβδομάδα\, με ευέλικτο ωράριο) \n• Διερεύνηση του προσωπικού σου “νήματος” στον Έρωτα \n• Εργασία πάνω σε περιοριστικές πεποιθήσεις \n• Επαφή με τη δημιουργική σου ενέργεια \nΝοέμβριος: 4 Ομαδικές Συνεδρίες (Κάθε Τετάρτη\, 20:00 – 22:00) \n• Γνωρίζουμε τον Έρωτα ή κάποιον που του μοιάζει; \n• Πώς συναντάμε αληθινά τον Άλλον; \n• Ο Έρωτας ως πηγή δημιουργικότητας \nΔεκέμβριος: 4 Ομαδικές Συνεδρίες (Κάθε Τετάρτη\, 20:00 – 22:00) \n• Ο Έρωτας και το Ιερό \n• Η ψυχή που ερωτεύεται τη ζωή \n• Πότε και πώς θα νιώσουμε το Φως του Έρωτα; \n• Ολοκλήρωση εργασιών \nΤι θα αποκομίσεις: \n• Αναγέννηση της σχέσης με τον εαυτό σου \n• Ενίσχυση της ενσυναίσθησης και της κριτικής σκέψης \n• Καλλιέργεια του νου\, της φαντασίας και της συναισθηματικής επίγνωσης \n• Πληροφορίες και τεχνικές αυτοβελτίωσης \n• Έμπνευση για συνειδητή\, δημιουργική ζωή \nΑπευθύνεται σε: \n• Όσους νιώθουν ότι κάτι λείπει από τη ζωή τους \n• Όσους έχουν πληγωθεί στην αγάπη \n• Όσους θέλουν να μάθουν να αγαπούν αληθινά \n• Όσους βλέπουν τον Έρωτα ως πύλη αυτογνωσίας \nΜεθοδολογία: \n• Φιλοσοφικός διάλογος (Σωκρατική μέθοδος) \n• Βιωματικές ασκήσεις και καθοδηγούμενος διαλογισμός (Ταοϊσμός) \n• Ενεργειακή και φωνητική απελευθέρωση \n• Δημιουργική γραφή και προσωπικά καθημερινά εργαλεία \nΣυμμετοχή: \n• Διαδικτυακά μέσω Zoom \n• Γλώσσα: Ελληνικά \n• Περιορισμένος αριθμός συμμετεχόντων \n• Δυνατότητα προσωπικής καθοδήγησης \n• Στην τιμή συμπεριλαμβάνεται το ΦΠΑ. \n• Αξία: 496 Ευρώ \n• Early Bird: 396 Ευρώ \nΚλείσε τη θέση σου!
URL:https://oistrosphilosophy.com/event/%ce%bf-%ce%ad%cf%81%cf%89%cf%84%ce%b1%cf%82-%cf%89%cf%82-%ce%b4%cf%8d%ce%bd%ce%b1%ce%bc%ce%b7-%ce%bc%ce%b5%cf%84%ce%b1%ce%bc%cf%8c%cf%81%cf%86%cf%89%cf%83%ce%b7%cf%82-%cf%80%cf%8e%cf%82/
LOCATION:Online\, Greece
CATEGORIES:Seminar
ATTACH;FMTTYPE=image/png:https://oistrosphilosophy.com/wp-content/uploads/2025/07/love-7188730_640.png
ORGANIZER;CN="Katerina Soulioti":MAILTO:oistrosphilosophy@yahoo.com
END:VEVENT
BEGIN:VEVENT
DTSTART;TZID=Europe/Moscow:20260131T103000
DTEND;TZID=Europe/Moscow:20260223T123000
DTSTAMP:20260420T045330
CREATED:20260107T235526Z
LAST-MODIFIED:20260107T235526Z
UID:494-1769855400-1771849800@oistrosphilosophy.com
SUMMARY:«Τι είναι ο Εαυτός και πώς τον αναζητούμε συνειδητά»
DESCRIPTION:Δωρεάν online σεμινάριο \nΣάββατο: 31/01/26 \nΔιάρκεια: 10:30-12:30 \n*Περιορισμένος αριθμός ατόμων \nΚλείσε τη θέση σου! \nΣΚΟΠΟΣ ΤΟΥ ΣΕΜΙΝΑΡΙΟΥ \nΤο σεμινάριο αποτελεί φιλοσοφική εισαγωγή στο διαχρονικό ερώτημα του εαυτού. Στόχος είναι ο συμμετέχων να έρθει σε ουσιαστική επαφή με το ερώτημα «ποιος είμαι»\, όχι θεωρητικά\, αλλά ως συνειδητή εσωτερική αναζήτηση. \n  \nΣΕ ΠΟΙΟΥΣ ΑΠΕΥΘΥΝΕΤΑΙ \n\nΆτομα που αναζητούν αυτογνωσία\nΕνδιαφερόμενους για φιλοσοφία και εσωτερική καλλιέργεια\nΔεν απαιτείται προηγούμενη γνώση\n\nΗ φιλοσοφική διαδρομή του σεμιναρίου \n\nΓιατί μιλάμε για τον Εαυτό σήμερα\n\nΤο διαχρονικό ερώτημα «ποιος είμαι» και η ανάγκη της αυτογνωσίας στη σύγχρονη ζωή. \n\nΟ Σωκρατικός δρόμος της αυτογνωσίας – «Γνῶθι σαυτόν»\n\nΟ εαυτός ως ερώτημα\, η σημασία της απορίας και ο ανεξέταστος βίος\, μέσα από τη σκέψη του Σωκράτη. \n\nΟ εαυτός ως ψυχή – Η πλατωνική θεώρηση\n\nΗ ψυχή ως φορέας αλήθειας\, η ανάμνηση της γνώσης και η έξοδος από το «σπήλαιο»\, σύμφωνα με τον Πλάτων. \n\nΟ εαυτός ως πράξη και αρετή\n\nΗ συγκρότηση του εαυτού μέσα από το ήθος\, τη συνήθεια και την πράξη\, όπως αναδεικνύεται στη φιλοσοφία του Αριστοτέλη. \n\nΗ εσωτερική στροφή και ο βαθύτερος εαυτός\n\nΗ επιστροφή προς τα μέσα\, η σιωπή και η εσωτερική ενότητα\, μέσα από τη σκέψη του Πλωτίνου. \n\nΟ εαυτός στη σύγχρονη σκέψη και ψυχολογία\n\nΠροσωπεία\, σκιά και ολότητα του εαυτού\, μέσα από την προσέγγιση του Καρλ Γιούνγκ. \n\nΗ συνειδητή αναζήτηση του εαυτού στην καθημερινή ζωή\n\nΑπό την ταύτιση στην παρατήρηση\, από την πληροφορία στη βιωματική επίγνωση. \n\nΟ εαυτός ως διαδρομή ζωής\n\nΗ αυτογνωσία όχι ως προορισμός\, αλλά ως συνεχής φιλοσοφική και υπαρξιακή πορεία. \n  \nΤΙ ΘΑ ΑΠΟΚΟΜΙΣΕΙ Ο ΣΥΜΜΕΤΕΧΩΝ \n\nΦιλοσοφική κατανόηση του εαυτού\nΕσωτερικά ερωτήματα\nΈμπνευση για προσωπική πορεία
URL:https://oistrosphilosophy.com/event/%cf%84%ce%b9-%ce%b5%ce%af%ce%bd%ce%b1%ce%b9-%ce%bf-%ce%b5%ce%b1%cf%85%cf%84%cf%8c%cf%82-%ce%ba%ce%b1%ce%b9-%cf%80%cf%8e%cf%82-%cf%84%ce%bf%ce%bd-%ce%b1%ce%bd%ce%b1%ce%b6%ce%b7%cf%84%ce%bf%cf%8d/
LOCATION:Online\, Greece
CATEGORIES:Seminar
ATTACH;FMTTYPE=image/jpeg:https://oistrosphilosophy.com/wp-content/uploads/2026/01/Wave.jpg
ORGANIZER;CN="Katerina Soulioti":MAILTO:oistrosphilosophy@yahoo.com
END:VEVENT
BEGIN:VEVENT
DTSTART;TZID=Europe/Moscow:20260513T200000
DTEND;TZID=Europe/Moscow:20260513T220000
DTSTAMP:20260420T045330
CREATED:20260415T202136Z
LAST-MODIFIED:20260415T202136Z
UID:508-1778702400-1778709600@oistrosphilosophy.com
SUMMARY:Ο ΕΑΥΤΟΣ: Μύθος ή Πραγματικότητα;
DESCRIPTION:Μήπως δεν είσαι αυτό που νομίζεις;  \nΌλοι έχουμε μια εικόνα για το ποιοι είμαστε. Ένα όνομα. Έναν χαρακτήρα. Μια ιστορία. Είναι όμως αληθινή; \nΣε αυτό το 2ωρο online συμπόσιο θα γνωρίσεις: \n\nπώς δημιουργείται η αίσθηση του “εαυτού”\nγιατί ταυτιζόμαστε με σκέψεις και ρόλους;\nκαι τι συμβαίνει όταν πάρεις μια μικρή απόσταση από όλα αυτά;\n\nΓιατί αξίζει;  \nΕίναι μια εμπειρία που σε οδηγεί να σκεφτείς πιο καθαρά και ουσιαστικά\, αγγίζοντας τη βαθύτερη ικανοποίηση του νου και της ψυχής. \nΑπευθύνεται σε ανθρώπους οι οποίοι: \n\nαναρωτιούνται συχνά “ποιος είμαι πραγματικά;”\nνιώθουν ότι κάτι μέσα τους έχει ανάγκη να αλλάξει.\nεπιθυμούν περισσότερη καθαρότητα στο πώς σκέφτονται και ζουν.\nέχουν ανάγκη να γνωρίσουν κομμάτια του εαυτού τους και του Όλου.\n\nΗμέρα: Τετάρτη 13 Μαΐου 2026 \nΏρα: 20:00-22:00 \nΔιάρκεια: 2 ώρες – Online (Zoom) \nΚόστος: 50 ευρώ \nΟι θέσεις είναι περιορισμένες. \nΚλείσε τη θέση σου!
URL:https://oistrosphilosophy.com/event/%ce%bf-%ce%b5%ce%b1%cf%85%cf%84%ce%bf%cf%83-%ce%bc%cf%8d%ce%b8%ce%bf%cf%82-%ce%ae-%cf%80%cf%81%ce%b1%ce%b3%ce%bc%ce%b1%cf%84%ce%b9%ce%ba%cf%8c%cf%84%ce%b7%cf%84%ce%b1/
LOCATION:Online\, Greece
CATEGORIES:Seminar
ATTACH;FMTTYPE=image/jpeg:https://oistrosphilosophy.com/wp-content/uploads/2026/03/sea_image_2_compressed.jpg
ORGANIZER;CN="Katerina Soulioti":MAILTO:oistrosphilosophy@yahoo.com
END:VEVENT
END:VCALENDAR